BEGIN:VCALENDAR
VERSION:2.0
PRODID:spatie/icalendar-generator
NAME:Official carpenter and roofer meeting point [DACH+HOLZ 2024]
X-WR-CALNAME:Official carpenter and roofer meeting point [DACH+HOLZ 2024]
BEGIN:VTIMEZONE
TZID:Europe/Zurich
BEGIN:STANDARD
DTSTART:20231029T030000
TZOFFSETFROM:+0200
TZOFFSETTO:+0100
END:STANDARD
BEGIN:DAYLIGHT
DTSTART:20240331T020000
TZOFFSETFROM:+0100
TZOFFSETTO:+0200
END:DAYLIGHT
END:VTIMEZONE
BEGIN:VTIMEZONE
TZID:UTC
BEGIN:STANDARD
DTSTART:20250725T153514
TZOFFSETFROM:+0000
TZOFFSETTO:+0000
END:STANDARD
END:VTIMEZONE
BEGIN:VEVENT
UID:69e799324142f
DTSTAMP:20260421T153514Z
DTSTART;TZID=Europe/Zurich:20240307T140000
DTEND;TZID=Europe/Zurich:20240307T180000
SUMMARY:Official carpenter and roofer meeting point [DACH+HOLZ 2024]
DESCRIPTION:https://connect.dach-holz.com/en/e/official-carpenter-and-roofe
 r-meeting-point.48480\n\nOfficial carpenters' meeting point and roofers' m
 eeting point at the trade fair in Stuttgart. All our members are invited! 
 Here you can find out where we meet\, what you can expect at our stand on 
 the Wednesday of the fair and get your free ticket to the fair.
LOCATION:Workspace Social Media & Digitalisierung\, Halle 6\, Stand 6.412/4
 14
END:VEVENT
END:VCALENDAR