BEGIN:VCALENDAR
VERSION:2.0
PRODID:spatie/icalendar-generator
NAME:OFFICIAL CARPENTER MEETING POINT AND ROOFER MEETING POINT [DACH+HOLZ 2
 024]
X-WR-CALNAME:OFFICIAL CARPENTER MEETING POINT AND ROOFER MEETING POINT [DAC
 H+HOLZ 2024]
BEGIN:VTIMEZONE
TZID:Europe/Zurich
BEGIN:STANDARD
DTSTART:20231029T030000
TZOFFSETFROM:+0200
TZOFFSETTO:+0100
END:STANDARD
BEGIN:DAYLIGHT
DTSTART:20240331T020000
TZOFFSETFROM:+0100
TZOFFSETTO:+0200
END:DAYLIGHT
END:VTIMEZONE
BEGIN:VTIMEZONE
TZID:UTC
BEGIN:STANDARD
DTSTART:20250725T153225
TZOFFSETFROM:+0000
TZOFFSETTO:+0000
END:STANDARD
END:VTIMEZONE
BEGIN:VEVENT
UID:69e798897b308
DTSTAMP:20260421T153225Z
DTSTART;TZID=Europe/Zurich:20240305T140000
DTEND;TZID=Europe/Zurich:20240305T180000
SUMMARY:OFFICIAL CARPENTER MEETING POINT AND ROOFER MEETING POINT [DACH+HOL
 Z 2024]
DESCRIPTION:https://connect.dach-holz.com/en/e/official-carpenter-meeting-p
 oint-and-roofer-meeting-point.48474\n\nThe official carpenters' and roofer
 s' meeting point is at the Workspace Social Media & Digitalization every d
 ay from 2 pm. This is where we meet to exchange ideas\, network\, train an
 d celebrate. Tips & tricks from social media and digitalization profession
 als every day.
LOCATION:Workspace Social Media & Digitalisierung\, Halle 6\, Stand 6.412/4
 14
END:VEVENT
END:VCALENDAR