BEGIN:VCALENDAR
VERSION:2.0
PRODID:spatie/icalendar-generator
NAME:Retentionsdach - Dichtheit ohne Kompromisse [DACH+HOLZ 2026]
X-WR-CALNAME:Retentionsdach - Dichtheit ohne Kompromisse [DACH+HOLZ 2026]
BEGIN:VTIMEZONE
TZID:Europe/Zurich
BEGIN:STANDARD
DTSTART:20251026T030000
TZOFFSETFROM:+0200
TZOFFSETTO:+0100
END:STANDARD
BEGIN:DAYLIGHT
DTSTART:20260329T020000
TZOFFSETFROM:+0100
TZOFFSETTO:+0200
END:DAYLIGHT
END:VTIMEZONE
BEGIN:VTIMEZONE
TZID:UTC
BEGIN:STANDARD
DTSTART:20250725T125645
TZOFFSETFROM:+0000
TZOFFSETTO:+0000
END:STANDARD
END:VTIMEZONE
BEGIN:VEVENT
UID:69e7740d6221c
DTSTAMP:20260421T125645Z
DTSTART;TZID=Europe/Zurich:20260227T150000
DTEND;TZID=Europe/Zurich:20260227T153000
SUMMARY:Retentionsdach - Dichtheit ohne Kompromisse [DACH+HOLZ 2026]
DESCRIPTION:https://connect.dach-holz.com/de/e/retentionsdach-dichtheit-ohn
 e-kompromisse.78176\n\nRetentionsdächer stellen besondere Anforderungen a
 n die Dichtheit der Abdichtung. Mit einem einfachen Dachdichtheitsmanageme
 nt kann man mögliche Schäden minimieren und die Dichtheit sicherstellen 
 und überwachen
LOCATION:Workspace Retentionsdach\, Halle 8/Stand 303
END:VEVENT
END:VCALENDAR