BEGIN:VCALENDAR
VERSION:2.0
PRODID:spatie/icalendar-generator
NAME:Circular by Nature - Lehmbaustoffe und Lehmbauteile [DACH+HOLZ 2026]
X-WR-CALNAME:Circular by Nature - Lehmbaustoffe und Lehmbauteile [DACH+HOLZ
  2026]
BEGIN:VTIMEZONE
TZID:Europe/Zurich
BEGIN:STANDARD
DTSTART:20251026T030000
TZOFFSETFROM:+0200
TZOFFSETTO:+0100
END:STANDARD
BEGIN:DAYLIGHT
DTSTART:20260329T020000
TZOFFSETFROM:+0100
TZOFFSETTO:+0200
END:DAYLIGHT
END:VTIMEZONE
BEGIN:VTIMEZONE
TZID:UTC
BEGIN:STANDARD
DTSTART:20250725T083814
TZOFFSETFROM:+0000
TZOFFSETTO:+0000
END:STANDARD
END:VTIMEZONE
BEGIN:VEVENT
UID:69e73776dcf4d
DTSTAMP:20260421T083814Z
DTSTART;TZID=Europe/Zurich:20260227T143000
DTEND;TZID=Europe/Zurich:20260227T150000
SUMMARY:Circular by Nature - Lehmbaustoffe und Lehmbauteile [DACH+HOLZ 2026
 ]
DESCRIPTION:https://connect.dach-holz.com/de/e/circular-by-nature-lehmbaust
 offe-und-lehmbauteile.78175\n\nDer Vortrag \"Circular by nature\" will ein
 en Überblick über industrielle hergestellte und skalierbare Lehmbaustoff
 e und Lehmbauteile geben. Zugleich werden einige aktuell realisierte Baupr
 ojekte vorgestellt und ein Ausblick gegeben.
LOCATION:Workspace Retentionsdach\, Halle 8/Stand 303
END:VEVENT
END:VCALENDAR