BEGIN:VCALENDAR
VERSION:2.0
PRODID:spatie/icalendar-generator
NAME:Gründen als Frau: Zwischen Tradition und Transformation [DACH+HOLZ 20
 26]
X-WR-CALNAME:Gründen als Frau: Zwischen Tradition und Transformation [DACH
 +HOLZ 2026]
BEGIN:VTIMEZONE
TZID:Europe/Zurich
BEGIN:STANDARD
DTSTART:20251026T030000
TZOFFSETFROM:+0200
TZOFFSETTO:+0100
END:STANDARD
BEGIN:DAYLIGHT
DTSTART:20260329T020000
TZOFFSETFROM:+0100
TZOFFSETTO:+0200
END:DAYLIGHT
END:VTIMEZONE
BEGIN:VTIMEZONE
TZID:UTC
BEGIN:STANDARD
DTSTART:20250725T083813
TZOFFSETFROM:+0000
TZOFFSETTO:+0000
END:STANDARD
END:VTIMEZONE
BEGIN:VEVENT
UID:69e7377504385
DTSTAMP:20260421T083813Z
DTSTART;TZID=Europe/Zurich:20260227T150000
DTEND;TZID=Europe/Zurich:20260227T153000
SUMMARY:Gründen als Frau: Zwischen Tradition und Transformation [DACH+HOLZ
  2026]
DESCRIPTION:https://connect.dach-holz.com/de/e/gruenden-als-frau-zwischen-t
 radition-und-transformation.78134\n\nWie ist das Gründen im Jahr 2026 aus
  weiblicher Perspektive eigentlich. Ein persönlicher Bericht von Formular
 bergen bis hin zu traditionellen Rollenbildern.
LOCATION:Workspace Zukunft\, Halle 6/Stand 103
END:VEVENT
END:VCALENDAR