BEGIN:VCALENDAR
VERSION:2.0
PRODID:spatie/icalendar-generator
NAME:Dachverbund GmbH [DACH+HOLZ 2026]
X-WR-CALNAME:Dachverbund GmbH [DACH+HOLZ 2026]
BEGIN:VEVENT
UID:69e4d6a2cfe4a
DTSTAMP:20260419T132034Z
DTSTART;VALUE=DATE:20260224
DTEND;VALUE=DATE:20260228
SUMMARY:Dachverbund GmbH [DACH+HOLZ 2026]
DESCRIPTION:https://connect.dach-holz.com/de/e/dachverbund-gmbh.77787\n\nDi
 e Unternehmensgruppe für Familienbetriebe im Dachhandwerk – regional ve
 rwurzelt\, unternehmerisch geführt und zukunftsorientiert aufgestellt.
X-MICROSOFT-CDO-ALLDAYEVENT:TRUE
LOCATION:Start-Up & Innovation Area\, Halle 9/Stand 117
END:VEVENT
END:VCALENDAR