BEGIN:VCALENDAR
VERSION:2.0
PRODID:spatie/icalendar-generator
NAME:Benetics AG [DACH+HOLZ 2026]
X-WR-CALNAME:Benetics AG [DACH+HOLZ 2026]
BEGIN:VEVENT
UID:69e4d678df948
DTSTAMP:20260419T131952Z
DTSTART;VALUE=DATE:20260224
DTEND;VALUE=DATE:20260228
SUMMARY:Benetics AG [DACH+HOLZ 2026]
DESCRIPTION:https://connect.dach-holz.com/de/e/benetics-ag.77786\n\nDer ers
 te KI-Sprachassistent für das Handwerk: weniger Papierkram\, bessere Zusa
 mmenarbeit zwischen Baustelle und Büro. Der Benetics ChatGPT-Sprachassist
 ent macht die Kommunikation zwischen Projektleiter und Bauarbeitern so ein
 fach wie nie.
X-MICROSOFT-CDO-ALLDAYEVENT:TRUE
LOCATION:Start-Up & Innovation Area\, Halle 9/Stand 115
END:VEVENT
END:VCALENDAR