BEGIN:VCALENDAR
VERSION:2.0
PRODID:spatie/icalendar-generator
NAME:Artesa GmbH [DACH+HOLZ 2026]
X-WR-CALNAME:Artesa GmbH [DACH+HOLZ 2026]
BEGIN:VEVENT
UID:69e4d71fbae08
DTSTAMP:20260419T132239Z
DTSTART;VALUE=DATE:20260224
DTEND;VALUE=DATE:20260228
SUMMARY:Artesa GmbH [DACH+HOLZ 2026]
DESCRIPTION:https://connect.dach-holz.com/de/e/artesa-gmbh.77785\n\nDigital
 e Plantafel & Einsatzplanung für Handwerksbetriebe – live auf der Messe
  Mit Artesa\, der Handwerkersoftware für digitale Planung\, behaltet ihr 
 eure Aufträge\, Mitarbeitende und Projekte jederzeit im Blick.
X-MICROSOFT-CDO-ALLDAYEVENT:TRUE
LOCATION:Start-Up & Innovation Area\, Halle 9/Stand 117
END:VEVENT
END:VCALENDAR