BEGIN:VCALENDAR
VERSION:2.0
PRODID:spatie/icalendar-generator
NAME:APTARE GmbH [DACH+HOLZ 2026]
X-WR-CALNAME:APTARE GmbH [DACH+HOLZ 2026]
BEGIN:VEVENT
UID:69e4d76abe449
DTSTAMP:20260419T132354Z
DTSTART;VALUE=DATE:20260224
DTEND;VALUE=DATE:20260228
SUMMARY:APTARE GmbH [DACH+HOLZ 2026]
DESCRIPTION:https://connect.dach-holz.com/de/e/aptare-gmbh.77747\n\nDie Apt
 are GmbH ist dein zuverlässiger IT-Dienstleister aus München. Wir unters
 tützen Unternehmen dabei\, ihre IT sicher\, stabil und zukunftsfähig zu 
 gestalten.
X-MICROSOFT-CDO-ALLDAYEVENT:TRUE
LOCATION:Start-Up & Innovation Area\, Halle 9/Stand 217
END:VEVENT
END:VCALENDAR