BEGIN:VCALENDAR
VERSION:2.0
PRODID:spatie/icalendar-generator
NAME:Altendorf GmbH [DACH+HOLZ 2026]
X-WR-CALNAME:Altendorf GmbH [DACH+HOLZ 2026]
BEGIN:VEVENT
UID:69e4d792c553c
DTSTAMP:20260419T132434Z
DTSTART;VALUE=DATE:20260224
DTEND;VALUE=DATE:20260228
SUMMARY:Altendorf GmbH [DACH+HOLZ 2026]
DESCRIPTION:https://connect.dach-holz.com/de/e/altendorf-gmbh.77711\n\nWeil
  bestes Handwerk nur mit bestem Werkzeug möglich ist. Und als leistungsst
 arker Partner des Handwerks führen wir Altendorf Formatkreissägen und Ka
 ntenanleimmaschinen unter einem Dach zusammen. Und setzen sie in unseren M
 aschinen und Service-Leistungen präzise um.
X-MICROSOFT-CDO-ALLDAYEVENT:TRUE
LOCATION:Start-Up & Innovation Area\, Halle 9/Stand 217
END:VEVENT
END:VCALENDAR