BEGIN:VCALENDAR
VERSION:2.0
PRODID:spatie/icalendar-generator
NAME:DachKomplett-Grundmodul 1 [DACH+HOLZ]
X-WR-CALNAME:DachKomplett-Grundmodul 1 [DACH+HOLZ]
BEGIN:VTIMEZONE
TZID:Europe/Zurich
BEGIN:STANDARD
DTSTART:20251026T030000
TZOFFSETFROM:+0200
TZOFFSETTO:+0100
END:STANDARD
BEGIN:DAYLIGHT
DTSTART:20260329T020000
TZOFFSETFROM:+0100
TZOFFSETTO:+0200
END:DAYLIGHT
END:VTIMEZONE
BEGIN:VTIMEZONE
TZID:UTC
BEGIN:STANDARD
DTSTART:20250725T132836
TZOFFSETFROM:+0000
TZOFFSETTO:+0000
END:STANDARD
END:VTIMEZONE
BEGIN:VEVENT
UID:69e77b848c001
DTSTAMP:20260421T132836Z
DTSTART;TZID=Europe/Zurich:20260130T090000
DTEND;TZID=Europe/Zurich:20260131T150000
SUMMARY:DachKomplett-Grundmodul 1 [DACH+HOLZ]
DESCRIPTION:https://connect.dach-holz.com/de/e/dachkomplett-grundmodul-1.72
 357\n\nDachKomplett bietet jedem DachKomplett-Betrieb erstklassige\, markt
 gerechte und praxistaugliche Schulungen und Lösungen. Damit verschafft si
 ch jeder DachKomplett-Betrieb Wettbewerbsvorteile mit Mehrwert.
LOCATION:Iphofen
END:VEVENT
END:VCALENDAR