BEGIN:VCALENDAR
VERSION:2.0
PRODID:spatie/icalendar-generator
NAME:Offizieller Zimmerer-Treffpunkt und Dachdecker-Treffpunkt [DACH+HOLZ 2
 024]
X-WR-CALNAME:Offizieller Zimmerer-Treffpunkt und Dachdecker-Treffpunkt [DAC
 H+HOLZ 2024]
BEGIN:VTIMEZONE
TZID:Europe/Zurich
BEGIN:STANDARD
DTSTART:20231029T030000
TZOFFSETFROM:+0200
TZOFFSETTO:+0100
END:STANDARD
BEGIN:DAYLIGHT
DTSTART:20240331T020000
TZOFFSETFROM:+0100
TZOFFSETTO:+0200
END:DAYLIGHT
END:VTIMEZONE
BEGIN:VTIMEZONE
TZID:UTC
BEGIN:STANDARD
DTSTART:20250725T132751
TZOFFSETFROM:+0000
TZOFFSETTO:+0000
END:STANDARD
END:VTIMEZONE
BEGIN:VEVENT
UID:69e77b573c224
DTSTAMP:20260421T132751Z
DTSTART;TZID=Europe/Zurich:20240306T140000
DTEND;TZID=Europe/Zurich:20240306T180000
SUMMARY:Offizieller Zimmerer-Treffpunkt und Dachdecker-Treffpunkt [DACH+HOL
 Z 2024]
DESCRIPTION:https://connect.dach-holz.com/de/e/offizieller-zimmerer-treffpu
 nkt-und-dachdecker-treffpunkt.48477\n\nOffizieller Zimmerer-Treffpunkt und
  Dachdecker-Treffpunkt auf der Messe in Stuttgart. Alle unsere Mitglieder 
 sind eingeladen! Hier erfährst Du wo wir uns treffen\, was dich bei uns a
 m Stand am Messe-Mittwoch erwartet und kannst dir gleich deine Freikarte z
 ur Messe holen.
LOCATION:Workspace Social Media & Digitalisierung\, Halle 6\, Stand 6.412/4
 14
END:VEVENT
END:VCALENDAR