BEGIN:VCALENDAR
VERSION:2.0
PRODID:spatie/icalendar-generator
NAME:OFFIZIELLER ZIMMERER-TREFFPUNKT UND DACHDECKER-TREFFPUNKT [DACH+HOLZ 2
 024]
X-WR-CALNAME:OFFIZIELLER ZIMMERER-TREFFPUNKT UND DACHDECKER-TREFFPUNKT [DAC
 H+HOLZ 2024]
BEGIN:VTIMEZONE
TZID:Europe/Zurich
BEGIN:STANDARD
DTSTART:20231029T030000
TZOFFSETFROM:+0200
TZOFFSETTO:+0100
END:STANDARD
BEGIN:DAYLIGHT
DTSTART:20240331T020000
TZOFFSETFROM:+0100
TZOFFSETTO:+0200
END:DAYLIGHT
END:VTIMEZONE
BEGIN:VTIMEZONE
TZID:UTC
BEGIN:STANDARD
DTSTART:20250725T132746
TZOFFSETFROM:+0000
TZOFFSETTO:+0000
END:STANDARD
END:VTIMEZONE
BEGIN:VEVENT
UID:69e77b523ceb8
DTSTAMP:20260421T132746Z
DTSTART;TZID=Europe/Zurich:20240305T140000
DTEND;TZID=Europe/Zurich:20240305T180000
SUMMARY:OFFIZIELLER ZIMMERER-TREFFPUNKT UND DACHDECKER-TREFFPUNKT [DACH+HOL
 Z 2024]
DESCRIPTION:https://connect.dach-holz.com/de/e/offizieller-zimmerer-treffpu
 nkt-und-dachdecker-treffpunkt.48474\n\nTäglich ab 14 Uhr ist am Workspace
  Social Media & Digitalisierung der Offizielle Zimmerer-Treffunkt und Dach
 decker-Treffpunkt. Hier treffen wir uns zum Austauschen\, Netzwerken\, Wei
 terbilden und Feiern. Jeden Tag Tipps & Tricks von Social Media- und Digit
 alisierungs-Profis.
LOCATION:Workspace Social Media & Digitalisierung\, Halle 6\, Stand 6.412/4
 14
END:VEVENT
END:VCALENDAR